BEGIN:VCALENDAR
VERSION:2.0
PRODID:-//Consejo Social de la UVa - ECPv6.15.17.1//NONSGML v1.0//EN
CALSCALE:GREGORIAN
METHOD:PUBLISH
X-WR-CALNAME:Consejo Social de la UVa
X-ORIGINAL-URL:https://consejosocial.uva.es
X-WR-CALDESC:Eventos para Consejo Social de la UVa
REFRESH-INTERVAL;VALUE=DURATION:PT1H
X-Robots-Tag:noindex
X-PUBLISHED-TTL:PT1H
BEGIN:VTIMEZONE
TZID:Europe/Madrid
BEGIN:DAYLIGHT
TZOFFSETFROM:+0100
TZOFFSETTO:+0200
TZNAME:CEST
DTSTART:20250330T010000
END:DAYLIGHT
BEGIN:STANDARD
TZOFFSETFROM:+0200
TZOFFSETTO:+0100
TZNAME:CET
DTSTART:20251026T010000
END:STANDARD
BEGIN:DAYLIGHT
TZOFFSETFROM:+0100
TZOFFSETTO:+0200
TZNAME:CEST
DTSTART:20260329T010000
END:DAYLIGHT
BEGIN:STANDARD
TZOFFSETFROM:+0200
TZOFFSETTO:+0100
TZNAME:CET
DTSTART:20261025T010000
END:STANDARD
BEGIN:DAYLIGHT
TZOFFSETFROM:+0100
TZOFFSETTO:+0200
TZNAME:CEST
DTSTART:20270328T010000
END:DAYLIGHT
BEGIN:STANDARD
TZOFFSETFROM:+0200
TZOFFSETTO:+0100
TZNAME:CET
DTSTART:20271031T010000
END:STANDARD
END:VTIMEZONE
BEGIN:VEVENT
DTSTART;TZID=Europe/Madrid:20260202T120000
DTEND;TZID=Europe/Madrid:20260202T130000
DTSTAMP:20260425T162642
CREATED:20260128T195251Z
LAST-MODIFIED:20260128T195251Z
UID:8421-1770033600-1770037200@consejosocial.uva.es
SUMMARY:Comisión Académica del Consejo Social
DESCRIPTION:Siguiendo indicaciones del Sr. presidente de la Comisión Académica del Consejo Social\, se convoca a los componentes de la misma a la sesión a celebrar el 2 de febrero de 2026\, a las 12.00h.\, presencialmente en la sala de reuniones del Consejo Social\, o bien mediante el sistema de videoconferencia (Plataforma Teams)-
URL:https://consejosocial.uva.es/evento/comision-academica-del-consejo-social-20260202/
LOCATION:Sala de Reuniones del Consejo Social
CATEGORIES:Comisiones
END:VEVENT
END:VCALENDAR