BEGIN:VCALENDAR
VERSION:2.0
PRODID:-//Consejo Social de la UVa - ECPv6.15.17.1//NONSGML v1.0//EN
CALSCALE:GREGORIAN
METHOD:PUBLISH
X-ORIGINAL-URL:https://consejosocial.uva.es
X-WR-CALDESC:Eventos para Consejo Social de la UVa
REFRESH-INTERVAL;VALUE=DURATION:PT1H
X-Robots-Tag:noindex
X-PUBLISHED-TTL:PT1H
BEGIN:VTIMEZONE
TZID:Europe/Madrid
BEGIN:DAYLIGHT
TZOFFSETFROM:+0100
TZOFFSETTO:+0200
TZNAME:CEST
DTSTART:20240331T010000
END:DAYLIGHT
BEGIN:STANDARD
TZOFFSETFROM:+0200
TZOFFSETTO:+0100
TZNAME:CET
DTSTART:20241027T010000
END:STANDARD
BEGIN:DAYLIGHT
TZOFFSETFROM:+0100
TZOFFSETTO:+0200
TZNAME:CEST
DTSTART:20250330T010000
END:DAYLIGHT
BEGIN:STANDARD
TZOFFSETFROM:+0200
TZOFFSETTO:+0100
TZNAME:CET
DTSTART:20251026T010000
END:STANDARD
BEGIN:DAYLIGHT
TZOFFSETFROM:+0100
TZOFFSETTO:+0200
TZNAME:CEST
DTSTART:20260329T010000
END:DAYLIGHT
BEGIN:STANDARD
TZOFFSETFROM:+0200
TZOFFSETTO:+0100
TZNAME:CET
DTSTART:20261025T010000
END:STANDARD
END:VTIMEZONE
BEGIN:VEVENT
DTSTART;TZID=Europe/Madrid:20250325T110000
DTEND;TZID=Europe/Madrid:20250325T120000
DTSTAMP:20260426T000710
CREATED:20250319T200633Z
LAST-MODIFIED:20250319T200633Z
UID:7389-1742900400-1742904000@consejosocial.uva.es
SUMMARY:Comisión Permanente del Consejo Social
DESCRIPTION:Por orden del presidente del Consejo Social\, se convoca a los miembros de la Comisión Permanente a la sesión a celebrar el próximo día 25 de marzo\, a las 11.00h.\, bien presencialmente en la sala de reuniones del Consejo Social\, o bien mediante el sistema de videoconferencia (Teams).
URL:https://consejosocial.uva.es/evento/comision-permanente-del-consejo-social-20250325/
LOCATION:Sala de Reuniones del Consejo Social
CATEGORIES:Comisiones
END:VEVENT
BEGIN:VEVENT
DTSTART;TZID=Europe/Madrid:20250325T170000
DTEND;TZID=Europe/Madrid:20250325T180000
DTSTAMP:20260426T000710
CREATED:20250226T093427Z
LAST-MODIFIED:20250318T154645Z
UID:7361-1742922000-1742925600@consejosocial.uva.es
SUMMARY:II Encuentro de Becarios de Colaboración del Consejo Social y Premios Consejo Social 2025
DESCRIPTION:25 de marzo\, martes\, a las 17.00h. \nSalón de Grados de la Facultad de Derecho\, Valladolid. \nEsta iniciativa pretende poner en contacto a estudiantes que están iniciando su trayectoria académica e investigadora en la UVa\, como becarios de colaboración del Consejo Social\, con académicos que tienen una experiencia consolidada y sobresaliente “para orientarles\, motivarles y trasladarles las inquietudes que surgen y las dificultades que suelen aparecer\, así como los retos a los que se enfrentarán\, en su trayectoria profesional\, animándolos para que esa vía investigadora se consolide”. \nSe trata\, en definitiva\, de aprender de la experiencia y del bagaje de profesores e investigadores implicados y comprometidos con la docencia y la investigación\, profesores que iniciaron su recorrido de una forma similar\, habiendo desarrollado una carrera profesional de éxito en el mundo académico. \nLos académicos que participarán en el Encuentro son los siguientes: \nDoctor Alejandro Menéndez Moreno\nCATEDRÁTICO DE DERECHO FINANCIERO Y TRIBUTARIO\nPremio Consejo Social 2009 \nDoctora María Isabel del Val Valdivieso\nCATEDRÁTICA DE HISTORIA MEDIEVAL\nPremio Consejo Social 2014 \n Doctora María Luz Rodríguez Méndez\nCATEDRÁTICA DE QUÍMICA FÍSICA Y QUÍMICA INORGÁNICA\nPremio Consejo Social 2023 \nEl acto estará presidido por el rector y el presidente y secretario del Consejo Social. \nAdjuntamos el link creado en “Eventos UVa” para facilitar su inscripción y asistencia: https://eventos.uva.es/131043/detail/ii-encuentro-becarios-de-colaboracion-consejo-social-y-premios-consejo-social.html
URL:https://consejosocial.uva.es/evento/2-encuentro-de-becarios-del-consejo-social-2025/
LOCATION:Salón de Grados de la Facultad de Derecho
CATEGORIES:Otros
END:VEVENT
END:VCALENDAR